BEGIN:VCALENDAR
VERSION:2.0
PRODID:-//jEvents 2.0 for Joomla//EN
CALSCALE:GREGORIAN
METHOD:PUBLISH
BEGIN:VTIMEZONE
TZID:Europe/Berlin
BEGIN:STANDARD
DTSTART:20250319T180000
RDATE:20250330T030000
TZOFFSETFROM:+0200
TZOFFSETTO:+0100
TZNAME:Europe/Berlin CET
END:STANDARD
BEGIN:STANDARD
DTSTART:20251026T020000
RDATE:20260329T030000
TZOFFSETFROM:+0200
TZOFFSETTO:+0100
TZNAME:Europe/Berlin CET
END:STANDARD
BEGIN:STANDARD
DTSTART:20261025T020000
RDATE:20270328T030000
TZOFFSETFROM:+0200
TZOFFSETTO:+0100
TZNAME:Europe/Berlin CET
END:STANDARD
BEGIN:STANDARD
DTSTART:20271031T020000
RDATE:20280326T030000
TZOFFSETFROM:+0200
TZOFFSETTO:+0100
TZNAME:Europe/Berlin CET
END:STANDARD
BEGIN:STANDARD
DTSTART:20281029T020000
RDATE:20290325T030000
TZOFFSETFROM:+0200
TZOFFSETTO:+0100
TZNAME:Europe/Berlin CET
END:STANDARD
BEGIN:DAYLIGHT
DTSTART:20250330T030000
RDATE:20251026T020000
TZOFFSETFROM:+0100
TZOFFSETTO:+0200
TZNAME:Europe/Berlin CEST
END:DAYLIGHT
BEGIN:DAYLIGHT
DTSTART:20260329T030000
RDATE:20261025T020000
TZOFFSETFROM:+0100
TZOFFSETTO:+0200
TZNAME:Europe/Berlin CEST
END:DAYLIGHT
BEGIN:DAYLIGHT
DTSTART:20270328T030000
RDATE:20271031T020000
TZOFFSETFROM:+0100
TZOFFSETTO:+0200
TZNAME:Europe/Berlin CEST
END:DAYLIGHT
BEGIN:DAYLIGHT
DTSTART:20280326T030000
RDATE:20281029T020000
TZOFFSETFROM:+0100
TZOFFSETTO:+0200
TZNAME:Europe/Berlin CEST
END:DAYLIGHT
END:VTIMEZONE
BEGIN:VEVENT
UID:37ee1eb48dd27e691bca4b3e80256e66
CATEGORIES:DEFAULT
CREATED:20260116T120839
SUMMARY:Jugendhaus-Session
LOCATION:Jugendzentrum Sulzbach\, Staufenstraße 33
DESCRIPTION:Unter dem Motto „Gemeinsam jammen, vernetzen und Spaß haben“ bietet das Eve
 nt jungen Menschen zwischen 14 und 21 Jahren eine Bühne zum Ausprobieren, A
 ustauschen und gemeinsamen Musizieren. Egal ob mit Instrument oder Stimme, 
 ob erste musikalische Schritte oder bereits Bühnenerfahrung – im Mittelpunk
 t steht die Freude am Musikmachen. In offener Atmosphäre können Teilnehmeri
 nnen und Teilnehmer eigene Ideen einbringen und ihren eigenen Sound entdeck
 en.\n
X-ALT-DESC;FMTTYPE=text/html:<p class="western">Unter dem Motto „Gemeinsam jammen, vernetzen und Spaß ha
 ben“ bietet das Event jungen Menschen zwischen 14 und 21 Jahren eine Bühne 
 zum Ausprobieren, Austauschen und gemeinsamen Musizieren. Egal ob mit Instr
 ument oder Stimme, ob erste musikalische Schritte oder bereits Bühnenerfahr
 ung – im Mittelpunkt steht die Freude am Musikmachen. In offener Atmosphäre
  können Teilnehmerinnen und Teilnehmer eigene Ideen einbringen und ihren ei
 genen Sound entdecken.</p>
DTSTAMP:20260421T113319
DTSTART;TZID=Europe/Berlin:20260320T180000
SEQUENCE:0
TRANSP:OPAQUE
END:VEVENT
END:VCALENDAR